BEGIN:VCALENDAR
VERSION:2.0
PRODID:-//eventon.com NONSGML v1.0//EN
CALSCALE:GREGORIAN
METHOD:PUBLISH
BEGIN:VEVENT
UID:69ea3aa5e6723
DTSTAMP:20260423T152837Z
DTSTART:20241003
DTEND:20241004
LOCATION:
SUMMARY:iSEN Multisensory Center (Rajkot\,  Gujarat)
DESCRIPTION:iSEN Multisensory Center (Rajkot\,  Gujarat)\nhttps://chasingch
 ildhooddoc.com/events/isen-multisensory-center-rajkot-gujarat/
URL:https://chasingchildhooddoc.com/events/isen-multisensory-center-rajkot-gujarat/
END:VEVENT
END:VCALENDAR