BEGIN:VCALENDAR
VERSION:2.0
PRODID:-//eventon.com NONSGML v1.0//EN
CALSCALE:GREGORIAN
METHOD:PUBLISH
BEGIN:VEVENT
UID:69ea3aec73fdc
DTSTAMP:20260423T152948Z
DTSTART:20241004
DTEND:20241005
LOCATION:
SUMMARY:NY Interschool and Faculty Diversity Search (New York\,  NY)
DESCRIPTION:NY Interschool and Faculty Diversity Search (New York\,  NY)\nh
 ttps://chasingchildhooddoc.com/events/ny-interschool-and-faculty-diversity-
 search-new-york-ny/
URL:https://chasingchildhooddoc.com/events/ny-interschool-and-faculty-diversity-search-new-york-ny/
END:VEVENT
END:VCALENDAR