BEGIN:VCALENDAR
VERSION:2.0
PRODID:-//eventon.com NONSGML v1.0//EN
CALSCALE:GREGORIAN
METHOD:PUBLISH
BEGIN:VEVENT
UID:69ea3aa61d086
DTSTAMP:20260423T152838Z
DTSTART:20241004
DTEND:20241005
LOCATION:
SUMMARY:Non-Toxic Schools (Sausalito\,  CA)
DESCRIPTION:Non-Toxic Schools (Sausalito\,  CA)\nhttps://chasingchildhooddo
 c.com/events/non-toxic-schools-sausalito-ca/
URL:https://chasingchildhooddoc.com/events/non-toxic-schools-sausalito-ca/
END:VEVENT
END:VCALENDAR