BEGIN:VCALENDAR
VERSION:2.0
PRODID:-//eventon.com NONSGML v1.0//EN
CALSCALE:GREGORIAN
METHOD:PUBLISH
BEGIN:VEVENT
UID:69ea3ad439474
DTSTAMP:20260423T152924Z
DTSTART:20241008
DTEND:20241009
LOCATION:
SUMMARY:Memphis Tutoring Services (Memphis\,  TN)
DESCRIPTION:Memphis Tutoring Services (Memphis\,  TN)\nhttps://chasingchild
 hooddoc.com/events/memphis-tutoring-services-memphis-tn/
URL:https://chasingchildhooddoc.com/events/memphis-tutoring-services-memphis-tn/
END:VEVENT
END:VCALENDAR