BEGIN:VCALENDAR
VERSION:2.0
PRODID:-//eventon.com NONSGML v1.0//EN
CALSCALE:GREGORIAN
METHOD:PUBLISH
BEGIN:VEVENT
UID:69ea3a893de4b
DTSTAMP:20260423T152809Z
DTSTART:20241016
DTEND:20241017
LOCATION:
SUMMARY:Newport Beach Rotary (Newport Beach\,  CA)
DESCRIPTION:Newport Beach Rotary (Newport Beach\,  CA)\nhttps://chasingchil
 dhooddoc.com/events/newport-beach-rotary-newport-beach-ca/
URL:https://chasingchildhooddoc.com/events/newport-beach-rotary-newport-beach-ca/
END:VEVENT
END:VCALENDAR