BEGIN:VCALENDAR
VERSION:2.0
PRODID:-//eventon.com NONSGML v1.0//EN
CALSCALE:GREGORIAN
METHOD:PUBLISH
BEGIN:VEVENT
UID:69ea3a873c45f
DTSTAMP:20260423T152807Z
DTSTART:20241023
DTEND:20241024
LOCATION:
SUMMARY:I Am Learning Foundation (Portland\,  OR)
DESCRIPTION:I Am Learning Foundation (Portland\,  OR)\nhttps://chasingchild
 hooddoc.com/events/i-am-learnig-foundation-portland-or/
URL:https://chasingchildhooddoc.com/events/i-am-learnig-foundation-portland-or/
END:VEVENT
END:VCALENDAR