BEGIN:VCALENDAR
VERSION:2.0
PRODID:-//eventon.com NONSGML v1.0//EN
CALSCALE:GREGORIAN
METHOD:PUBLISH
BEGIN:VEVENT
UID:69ea3af303bb3
DTSTAMP:20260423T152955Z
DTSTART:20241027
DTEND:20241028
LOCATION:
SUMMARY:Follett Content Solutions (Scottsdale\,  AZ)
DESCRIPTION:Follett Content Solutions (Scottsdale\,  AZ)\nhttps://chasingch
 ildhooddoc.com/events/follett-content-solutions-scottsdale-az/
URL:https://chasingchildhooddoc.com/events/follett-content-solutions-scottsdale-az/
END:VEVENT
END:VCALENDAR