BEGIN:VCALENDAR
VERSION:2.0
PRODID:-//eventon.com NONSGML v1.0//EN
CALSCALE:GREGORIAN
METHOD:PUBLISH
BEGIN:VEVENT
UID:69ea3a10342bd
DTSTAMP:20260423T152608Z
DTSTART:20241102
DTEND:20241103
LOCATION:
SUMMARY:Temple Isaiah (Lexington\,  MA)
DESCRIPTION:Temple Isaiah (Lexington\,  MA)\nhttps://chasingchildhooddoc.co
 m/events/temple-isaiah-lexington-ma/
URL:https://chasingchildhooddoc.com/events/temple-isaiah-lexington-ma/
END:VEVENT
END:VCALENDAR